BEGIN:VCALENDAR
VERSION:2.0
PRODID:-//Tukios.com/
BEGIN:VEVENT
UID:2b8346f0-50a3-44a0-8182-9abc6d641ee0@www.marrs-jonesfuneralhome.com
DTSTAMP:20260420T220106Z
DTSTART:20260424T180000Z
DTEND:20260424T190000Z
SUMMARY:Graveside Service
DESCRIPTION:
URL:https://www.marrs-jonesfuneralhome.com/obituaries/madelyn-heloise-gore-long-castles
LOCATION:Cedar Hill Cemetery 268 Old Salem Rd.  Rusk TX 75785
GEO:31.7888203;-95.1464647
END:VEVENT
END:VCALENDAR