BEGIN:VCALENDAR
VERSION:2.0
PRODID:-//Tukios.com/
BEGIN:VEVENT
UID:0b1c4156-db40-416c-a34c-29bb459cd307@www.marrs-jonesfuneralhome.com
DTSTAMP:20260420T220300Z
DTSTART:20260423T160000Z
DTEND:20260423T170000Z
SUMMARY:Funeral Service
DESCRIPTION:
URL:https://www.marrs-jonesfuneralhome.com/obituaries/madelyn-heloise-gore-long-castles
LOCATION:First United Methodist Church of Smithville 400 Olive Street  
	Smithville TX 78957
GEO:30.0089396;-97.1578339
END:VEVENT
END:VCALENDAR