BEGIN:VCALENDAR
VERSION:2.0
PRODID:-//Tukios.com/
BEGIN:VEVENT
UID:14884dfd-50b1-4d0b-a11f-3c6493e287ab@www.marrs-jonesfuneralhome.com
DTSTAMP:20260420T220222Z
DTSTART:20260423T150000Z
DTEND:20260423T160000Z
SUMMARY:Viewing
DESCRIPTION:
URL:https://www.marrs-jonesfuneralhome.com/obituaries/madelyn-heloise-gore-long-castles
LOCATION:First United Methodist Church of Smithville 400 Olive Street  
	Smithville TX 78957
GEO:30.0089396;-97.1578339
END:VEVENT
END:VCALENDAR