BEGIN:VCALENDAR
VERSION:2.0
PRODID:-//Tukios.com/
BEGIN:VEVENT
UID:03c697f9-1ba6-44f0-8283-bd7675a76875@www.marrs-jonesfuneralhome.com
DTSTAMP:20260422T032601Z
DTSTART:20260427T220000Z
DTEND:20260428T010000Z
SUMMARY:Viewing
DESCRIPTION:
URL:https://www.marrs-jonesfuneralhome.com/obituaries/joyce-campion
LOCATION: 110 American Legion Rd  Smithville TX 78957
GEO:30.0180433;-97.1596017
END:VEVENT
END:VCALENDAR